BEGIN:VCALENDAR
VERSION:2.0
PRODID:-//ChamberMaster//Event Calendar 2.0//EN
METHOD:PUBLISH
X-PUBLISHED-TTL:P3D
REFRESH-INTERVAL:P3D
CALSCALE:GREGORIAN
BEGIN:VEVENT
DTSTART:20260519T210000Z
DTEND:20260519T230000Z
X-MICROSOFT-CDO-ALLDAYEVENT:FALSE
SUMMARY:Candidate Meet & Greet- House and Senate 2026
DESCRIPTION:
X-ALT-DESC;FMTTYPE=text/html:
LOCATION:Will Rogers Memorial Museum
UID:e.3571.545
SEQUENCE:3
DTSTAMP:20260421T182119Z
URL:https://business.claremore.org/events/details/candidate-meet-greet-house-and-senate-2026-545
END:VEVENT

END:VCALENDAR
