BEGIN:VCALENDAR
VERSION:2.0
PRODID:-//ChamberMaster//Event Calendar 2.0//EN
METHOD:PUBLISH
X-PUBLISHED-TTL:P3D
REFRESH-INTERVAL:P3D
CALSCALE:GREGORIAN
BEGIN:VEVENT
DTSTART:20261213T000000Z
DTEND:20261213T020000Z
X-MICROSOFT-CDO-ALLDAYEVENT:FALSE
SUMMARY:Claremore Christmas Parade 2026
DESCRIPTION:This year's 2026 Christmas parade will follow the traditional downtown format on Saturday\, December 12\, 2026. The parade will begin at 6:00 p.m.  Christmas lights are required on all displays. All applications must be returned by November 28\, 2026.\n\n\n\n*Remember: No Santas are allowed other than the official Chamber Santa!
X-ALT-DESC;FMTTYPE=text/html:This year&#39\;s 2026 Christmas parade will follow the traditional downtown format on Saturday\, December 12\, 2026. The parade will begin at 6:00 p.m.&nbsp\; Christmas lights are required on all displays. All applications must be returned by November 28\, 2026.<br />\n<br />\n*Remember: No Santas are allowed other than the official Chamber Santa!
LOCATION:Staging location will be at Claremore Expo Center\, starting at 2:00 p.m. (no early entries will be allowed.) Please enter from Dupont northbound on Veterans Parkway for check-in. There will also be an area for final float prep. Parade route will travel eastbound on Will Rogers Blvd. and will end at Claremore First Baptist Church.
UID:e.3571.482
SEQUENCE:3
DTSTAMP:20260422T170548Z
URL:https://business.claremore.org/events/details/claremore-christmas-parade-2026-482
END:VEVENT

END:VCALENDAR
