BEGIN:VCALENDAR
VERSION:2.0
PRODID:-//ChamberMaster//Event Calendar 2.0//EN
METHOD:PUBLISH
X-PUBLISHED-TTL:P3D
REFRESH-INTERVAL:P3D
CALSCALE:GREGORIAN
BEGIN:VEVENT
DTSTART:20260410T140000Z
DTEND:20260410T150000Z
X-MICROSOFT-CDO-ALLDAYEVENT:FALSE
SUMMARY:Coffee Connections: Shift Change Healthcare Academy
DESCRIPTION:Join us for Chamber Coffee Connections\, presented by Shift Change Healthcare Academy. This event is FREE and open to the public! Come have coffee and breakfast and meet new friends!
X-ALT-DESC;FMTTYPE=text/html:Join us for Chamber Coffee Connections\, presented by Shift Change Healthcare Academy. This event is FREE and open to the public! Come have coffee and breakfast and meet new friends!&nbsp\;
LOCATION:Shift Change Healthcare Academy 400 S. Weenonah St. Claremore\, OK
UID:e.3571.532
SEQUENCE:3
DTSTAMP:20260419T140630Z
URL:https://business.claremore.org/events/details/coffee-connections-shift-change-healthcare-academy-532
END:VEVENT

END:VCALENDAR
