BEGIN:VCALENDAR
VERSION:2.0
PRODID:-//ChamberMaster//Event Calendar 2.0//EN
METHOD:PUBLISH
X-PUBLISHED-TTL:P3D
REFRESH-INTERVAL:P3D
CALSCALE:GREGORIAN
BEGIN:VEVENT
DTSTART:20260513T163000Z
DTEND:20260513T180000Z
X-MICROSOFT-CDO-ALLDAYEVENT:FALSE
SUMMARY:Leading Ladies Luncheon: Chris Enns 2026
DESCRIPTION:Join us for a Leading Ladies Luncheon! Our guest speaker will be Chris Enns of the Will Rogers Medallion Awards! We hear she's a fabulous and dynamic lady!
X-ALT-DESC;FMTTYPE=text/html:Join us for a Leading Ladies Luncheon! Our guest speaker will be Chris Enns of the Will Rogers Medallion Awards! We hear she&#39\;s a fabulous and dynamic lady!&nbsp\;
LOCATION:
UID:e.3571.527
SEQUENCE:3
DTSTAMP:20260421T133554Z
URL:https://business.claremore.org/events/details/leading-ladies-luncheon-chris-enns-2026-527
END:VEVENT

END:VCALENDAR
