BEGIN:VCALENDAR
VERSION:2.0
PRODID:-//ChamberMaster//Event Calendar 2.0//EN
METHOD:PUBLISH
X-PUBLISHED-TTL:P3D
REFRESH-INTERVAL:P3D
CALSCALE:GREGORIAN
BEGIN:VEVENT
DTSTART;VALUE=DATE:20260515
DTEND;VALUE=DATE:20260516
TRANSP:TRANSPARENT
X-MICROSOFT-CDO-ALLDAYEVENT:TRUE
SUMMARY:Sporting Clay Shoot 2026
DESCRIPTION:Join us for a fun day on the range at the Tulsa Gun Club!
X-ALT-DESC;FMTTYPE=text/html:Join us for a fun day on the range at the Tulsa Gun Club!&nbsp\;
LOCATION:Tulsa Gun Club
UID:e.3571.512
SEQUENCE:3
DTSTAMP:20260421T132542Z
URL:https://business.claremore.org/events/details/sporting-clay-shoot-2026-512
END:VEVENT

END:VCALENDAR
