BEGIN:VCALENDAR
VERSION:2.0
PRODID:-//ChamberMaster//Event Calendar 2.0//EN
METHOD:PUBLISH
X-PUBLISHED-TTL:P3D
REFRESH-INTERVAL:P3D
CALSCALE:GREGORIAN
BEGIN:VEVENT
DTSTART:20260602T163000Z
DTEND:20260602T180000Z
X-MICROSOFT-CDO-ALLDAYEVENT:FALSE
SUMMARY:State of Legislative Affairs 2026
DESCRIPTION:Join us for the Chamber's annual State of Legislative Affairs luncheon on Tuesday\, June 2.
X-ALT-DESC;FMTTYPE=text/html:Join us for the Chamber&#39\;s annual State of Legislative Affairs luncheon on Tuesday\, June 2.
LOCATION:Rogers State University Dr. Carolyn Taylor Center Ballroom 1701 W. Will Rogers Blvd. Claremore\, OK 74017
UID:e.3571.515
SEQUENCE:3
DTSTAMP:20260424T190303Z
URL:https://business.claremore.org/events/details/state-of-legislative-affairs-2026-515
END:VEVENT

END:VCALENDAR
